BEGIN:VCALENDAR
VERSION:2.0
PRODID:-//Library Market//iCal Export//EN
BEGIN:VEVENT
SUMMARY:2026 Grant County Primary Election - Early Voting
UID:3461
DTSTAMP:20260422T021400Z
DTSTART:20260514T140000Z
DTEND:20260514T220000Z
LOCATION:201 Barnes Road, Williamstown, KY 41097, United States
ROOM: Meeting Room A &amp; B
DESCRIPTION:2026 Primary Election - Early No Excuse Voting for Grant Count
 y ResidentsThursday, May 14:  10 AM - 6 PMFriday, May 15:  10 AM - 6 PMS
 aturday, May 16:  8 AM - 4 PMThe library will also be a polling location 
 on election day, Tuesday, May 19:  6 AM - 6 PM
URL:https://grantcounty.librarycalendar.com/event/grant-county-primary-ele
 ction-early-voting-3461
END:VEVENT
END:VCALENDAR
