BEGIN:VCALENDAR
VERSION:2.0
PRODID:-//Library Market//iCal Export//EN
BEGIN:VEVENT
SUMMARY:Kynect Open Enrollment Education
UID:3795
DTSTAMP:20260420T002700Z
DTSTART:20260521T150000Z
DTEND:20260521T170000Z
LOCATION:201 Barnes Road, Williamstown, KY 41097, United States
ROOM: Lobby
DESCRIPTION:Kynect Open Enrollment EducationThursday, May 21st11 amNorther
 n Kentucky Community Action Commission - Kynect will be setting up a table
  with free things to give away with the goal of Outreach and educating the
  public.
URL:https://grantcounty.librarycalendar.com/event/kynect-open-enrollment-e
 ducation-3795
END:VEVENT
END:VCALENDAR
