BEGIN:VCALENDAR
VERSION:2.0
PRODID:-//Library Market//iCal Export//EN
BEGIN:VEVENT
SUMMARY:Grant County Chamber of Commerce
UID:3796
DTSTAMP:20260421T021100Z
DTSTART:20260817T120000Z
DTEND:20260817T140000Z
LOCATION:201 Barnes Road, Williamstown, KY 41097, United States
ROOM: Meeting Room A &amp; B
DESCRIPTION:Grant County Chamber of CommerceMonday, Aug. 178amThe Grant Co
 unty Chamber of Commerce is holding it&#039;s monthly Chamber Breakfast at
  the library. 
URL:https://grantcounty.librarycalendar.com/event/grant-county-chamber-com
 merce-3796
END:VEVENT
END:VCALENDAR
