BEGIN:VCALENDAR
VERSION:2.0
PRODID:-//Library Market//iCal Export//EN
BEGIN:VEVENT
SUMMARY:Sit and Sew
UID:3821
DTSTAMP:20260420T091900Z
DTSTART:20260612T140000Z
DTEND:20260612T200000Z
LOCATION:201 Barnes Road, Williamstown, KY 41097, United States
ROOM: Meeting Room A &amp; B
DESCRIPTION:Sit and SewFriday, June 1210 amGet together with fellow sewing
  and quilting enthusiasts. Open to everyone. Please bring your own supplie
 s. Learn tips and techniques, share patterns and ideas, or just enjoy lau
 ghs and fun.
URL:https://grantcounty.librarycalendar.com/event/sit-and-sew-3821
END:VEVENT
END:VCALENDAR
